

BEGIN:VCALENDAR
VERSION:2.0
PRODID:-//Angel City Sports - ECPv6.15.20//NONSGML v1.0//EN
CALSCALE:GREGORIAN
METHOD:PUBLISH
X-WR-CALNAME:Angel City Sports
X-ORIGINAL-URL:https://angelcitysports.org
X-WR-CALDESC:Events for Angel City Sports
REFRESH-INTERVAL;VALUE=DURATION:PT1H
X-Robots-Tag:noindex
X-PUBLISHED-TTL:PT1H
BEGIN:VTIMEZONE
TZID:America/Los_Angeles
BEGIN:DAYLIGHT
TZOFFSETFROM:-0800
TZOFFSETTO:-0700
TZNAME:PDT
DTSTART:20250309T100000
END:DAYLIGHT
BEGIN:STANDARD
TZOFFSETFROM:-0700
TZOFFSETTO:-0800
TZNAME:PST
DTSTART:20251102T090000
END:STANDARD
BEGIN:DAYLIGHT
TZOFFSETFROM:-0800
TZOFFSETTO:-0700
TZNAME:PDT
DTSTART:20260308T100000
END:DAYLIGHT
BEGIN:STANDARD
TZOFFSETFROM:-0700
TZOFFSETTO:-0800
TZNAME:PST
DTSTART:20261101T090000
END:STANDARD
BEGIN:DAYLIGHT
TZOFFSETFROM:-0800
TZOFFSETTO:-0700
TZNAME:PDT
DTSTART:20270314T100000
END:DAYLIGHT
BEGIN:STANDARD
TZOFFSETFROM:-0700
TZOFFSETTO:-0800
TZNAME:PST
DTSTART:20271107T090000
END:STANDARD
END:VTIMEZONE
BEGIN:VEVENT
DTSTART;TZID=America/Los_Angeles:20260516T100000
DTEND;TZID=America/Los_Angeles:20260516T150000
DTSTAMP:20260422T013341
CREATED:20260330T110603Z
LAST-MODIFIED:20260416T184510Z
UID:10000027-1778925600-1778943600@angelcitysports.org
SUMMARY:Long Beach Adaptive Sports Fair (Multi sport)
DESCRIPTION:Experience the thrill of adaptive sports! This event welcomes individuals of all ages and abilities to explore\, engage\, and celebrate adaptive athletics in a fun\, inclusive environment. FREE ADMISSSION! Try these featured adaptive sports! (Lineup subject to change. Follow us for updates!) \n\nLong Beach City College 3932 Faculty Ave\, Long Beach\, CA
URL:https://angelcitysports.org/event/lb-adaptive-sports-fair-multi-sport/
LOCATION:Long Beach City College 3932 Faculty Ave\, Long Beach\, CA
CATEGORIES:Community Events,Multi-sport Days
ATTACH;FMTTYPE=image/png:https://angelcitysports.org/wp-content/uploads/2026/03/LB-adaptive-Fair-1.png
END:VEVENT
END:VCALENDAR